BEGIN:VCALENDAR
VERSION:2.0
PRODID:-//Les Saisons de la Voix - ECPv6.3.5//NONSGML v1.0//EN
CALSCALE:GREGORIAN
METHOD:PUBLISH
X-WR-CALNAME:Les Saisons de la Voix
X-ORIGINAL-URL:http://lessaisonsdelavoix.com
X-WR-CALDESC:évènements pour Les Saisons de la Voix
REFRESH-INTERVAL;VALUE=DURATION:PT1H
X-Robots-Tag:noindex
X-PUBLISHED-TTL:PT1H
BEGIN:VTIMEZONE
TZID:Europe/Paris
BEGIN:DAYLIGHT
TZOFFSETFROM:+0100
TZOFFSETTO:+0200
TZNAME:CEST
DTSTART:20230326T010000
END:DAYLIGHT
BEGIN:STANDARD
TZOFFSETFROM:+0200
TZOFFSETTO:+0100
TZNAME:CET
DTSTART:20231029T010000
END:STANDARD
END:VTIMEZONE
BEGIN:VEVENT
DTSTART;TZID=Europe/Paris:20230909T150000
DTEND;TZID=Europe/Paris:20230910T170000
DTSTAMP:20260424T070926
CREATED:20230308T140009Z
LAST-MODIFIED:20231211T084350Z
UID:2958-1694271600-1694365200@lessaisonsdelavoix.com
SUMMARY:15e Concours international de la mélodie de Gordes
DESCRIPTION:ReportéConcert d'automneSome description text for this item \n		\n				\n					\n		\n					\n		\n				\n						\n					\n			\n						\n				\n					\n			\n						\n		\n				\n				\n					\n		\n					\n		\n				\n						\n					\n			\n						\n				\n							(dimanche 24 septembre)Reporté au 10 décembre 202318hGordes / Hôtel de ville / Espace Simiane 						\n				\n					\n		\n				\n			\n						\n				\n							  Tarif général : 20€Tarif adhérents / groupes (+10 personnes) : 15€Tarif réduit : 5€ (Jeunes / Étudiants / Handicapés / Demandeurs d’emploi) 						\n				\n					\n		\n					\n		\n				\n						\n					\n			\n						\n				\n					\n			\n						\n		\n				\n				\n					\n		\n					\n		\n				\n						\n					\n			\n						\n				\n			Lila Dufysoprano \nlauréate du Concours international\nde la mélodie de Gordes 2022 \n		\n				\n					\n		\n				\n			\n						\n				\n			Paul Beynetpiano \nlauréat du Concours international\nde la mélodie de Gordes 2014 \n		\n				\n					\n		\n					\n		\n				\n						\n					\n			\n						\n				\n					\n			\n						\n		\n				\n				\n					\n		\n					\n		\n				\n						\n					\n			\n						\n				\n							Lila Dufy est une jeune soprano coloratur extrêmement prometteuse et l’une des brillantes lauréates  du Concours international de la mélodie 2022. Elle vient d’être choisie par le Théâtre des Champs-Elysées pour interpréter le rôle de Xenia dans la nouvelle production de Boris Godounov que met en scène Olivier Py Une voix pleine et homogène\, un timbre riche\, une belle autorité et une grande maturité\, qu’elle veut pour ce concert d’automne au service d’un programme à la fois exigeant et passionnant\, pour lequel elle a choisi d’être accompagnée par le pianiste Paul Beynet\, qui a gagné de nombreuses récompenses dans les plus grands concours et qui a été lauréat\, en 2014\, d’un précédant Concours international de la mélodie de Gordes. 						\n				\n					\n		\n					\n		\n				\n						\n					\n			\n						\n				\n							programmeJules MassenetCendrillonAir de la Fée Léo DelibesLes Filles de Cadix Claude DebussyClaire de lune Sergueï RachmaninovNe poy\, krasavitsa\, pri mne\, opus 4 n°4 Nikolaï Rimsky KorsakovLe Coq d’OrAir de la Reine de Chemakha Sergueï RachmaninovVocalise\, opus 34 n°14 Prélude opus 3 n°2 Maurice RavelMélodies populaires grecquesBallade de la Reine morte d’aimerShéhérazadeextrait La Flûte EnchantéePavane pour une infante défunte Ambroise ThomasHamletOphélie : scène de la folie
URL:http://lessaisonsdelavoix.com/event/15e-concours-international-de-la-melodie-de-gordes/
LOCATION:Espace Simiane – Hôtel de Ville\, Place du Château\, Gordes\, 84220\, France
CATEGORIES:Archive,Concours,saison 2023
ATTACH;FMTTYPE=image/jpeg:http://lessaisonsdelavoix.com/2020/wp-content/uploads/2023/03/SaisonVoix-visuels2023-4.jpg
END:VEVENT
END:VCALENDAR